Workbook

Sheet 갑지
B2: 견 적 서
B9: 금 액 : | D9: ="일금 " & NUMBERSTRING(ROUND(Y24,0),1) & "원정" -> 일금 영원정 | H9: ="( \" & TEXT(Y24,"0,0") &")(부가세포함)" -> ( \00)(부가세포함)
B10: [PROJECT] | D10: 공기열 히트펌프시스템 설치공사
B12: 구분 | C12: 품 명 | F12: 규격 | I12: 단위 | J12: 수량 | K12: 재 료 비 | O12: 노 무 비 | S12: 경 비 | W12: 합 계 | AA12: 비 고
K13: 단 가 | M13: 금 액 | O13: 단 가 | Q13: 금 액 | S13: 단 가 | U13: 금 액 | W13: 단 가 | Y13: 금 액
B14: 직접비 | C14: =공종별집계표!A5 -> 장비설치공사 | I14: 식 | J14: 1 | M14: =공종별집계표!F5 -> 0 | Q14: =공종별집계표!H5 -> 0 | U14: =공종별집계표!J5 -> 0 | Y14: =SUM(M14+Q14+U14) -> 0
C15: =공종별집계표!A6 -> 히트펌프 배관공사 | I15: 식 | J15: 1 | M15: =공종별집계표!F6 -> 0 | Q15: =공종별집계표!H6 -> 0 | U15: =공종별집계표!J6 -> 0 | Y15: =SUM(M15+Q15+U15) -> 0
M16: =공종별집계표!F7 -> 0 | Q16: =공종별집계표!H7 -> 0 | U16: =공종별집계표!J7 -> 0 | Y16: =SUM(M16+Q16+U16) -> 0
C18: 소 계 | Y18: =SUM(Y14:Z17) -> 0
B19: 간접비 | C19: 간접노무비+보험료외 | I19: 식 | J19: 1 | M19: =원가계산서!D9+원가계산서!D13+원가계산서!D14+원가계산서!D15+원가계산서!D16+원가계산서!D17+원가계산서!D18+원가계산서!D19 -> 0 | Y19: =SUM(M19) -> 0
C20: 일반관리비+이윤 | I20: 식 | J20: 1 | M20: =원가계산서!D26+원가계산서!D27 -> 0 | Y20: =SUM(M20) -> 0
C22: 소 계 | Y22: =SUM(Y19:Z21) -> 0
B23: 합 계 | Y23: =Y18+Y22 -> 0
B24: 최 종 금 액 | Y24: =원가계산서!D29 -> 0
B27: ※ REMARK : | D27: 1) 부가가치세포함금액입니다.
D28: 2) 용전용수공급조건입니다.
D29: 3) 1차인입전기 별도금액(전기공사분) | F29: (전기공사분)
D30: 4) 배관10m기준견적임 추가시 별도 발생

Sheet 원가계산서
A1: PROJECT: 히트펌프시스템 설치공사 | E1: ="금액: 일금" & NUMBERSTRING(ROUND(D29,0),1) & "원정" & " ( \" &TEXT(D29,"0,0") & ")(부가세포함)" -> 금액: 일금영원정 ( \00)(부가세포함)
A2: 비 목 구 분 | D2: 금 액 | E2: 구 성 비 | H2: 비 고
A3: 순공사 원가 | B3: 재 료 비 | C3: 직 접 재 료 비 | D3: =공종별집계표!F26 -> 0
C4: 간 접 재 료 비
C5: 작업설, 부산물
C6: 소 계 | D6: =SUM(D3:D5) -> 0
B8: 노 무 비 | C8: 직 접 노 무 비 | D8: =공종별집계표!H26 -> 0
C9: 간 접 노 무 비 | D9: =ROUNDDOWN(D8*G9,0) -> 0 | E9: 직접노무비 | F9: x | G9: 0
C10: 소 계 | D10: =D8+D9 -> 0
B12: 경 비 | C12: 기계경비 | D12: =공종별집계표!J26 -> 0
C13: 산재보험료 | D13: =ROUNDDOWN(D10*G13,0) -> 0 | E13: 노무비 | F13: x | G13: 0
C14: 건강보험료 | D14: =ROUNDDOWN(D8*G14,0) -> 0 | E14: 직접노무비 | F14: x | G14: 0
C15: 연금보험료 | D15: =ROUNDDOWN(D8*G15,0) -> 0 | E15: 직접노무비 | F15: x | G15: 0
C16: 고용보험료 | D16: =ROUNDDOWN(D10*G16,0) -> 0 | E16: 노무비 | F16: x | G16: 0
C17: 노인장기요양보험료 | D17: =ROUNDDOWN(D14*G17,0) -> 0 | E17: 건강보험료 | F17: x | G17: 0
C18: 퇴직공제부금비 | D18: =ROUNDDOWN(D8*G18,0) -> 0 | E18: 직접노무비 | F18: x | G18: 0
C19: 산업안전보건관리비 | D19: =ROUNDDOWN(((D6+D8)*G19),0) -> 0 | E19: (재료비+직접노무비) | F19: x | G19: 0
C20: 환경보전비 | D20: =ROUNDDOWN((D6+D12)*G20,0) -> 0 | E20: (재료비+직접노무비+경비) | F20: x | G20: 0
C21: 기타경비 | D21: =ROUNDDOWN((D6+D10)*G21,0) -> 0 | E21: (재료비+직접노무비+경비) | F21: x | G21: 0
C23: 소계 | D23: =SUM(D12:D22) -> 0
B25: 순 공 사 원 가 계 | D25: =D6+D10+D23 -> 0 | E25: (재료비+노무비+경비)
A26: 일 반 관 리 비 | D26: =D25*G26 -> 0 | E26: 순공사원가계 | F26: x | G26: 0
A27: 이 윤 | D27: =ROUNDDOWN((D25)*G27,0) -> 0 | E27: 순공사원가계 | F27: x | G27: 0
A28: 공 급 가 액 | D28: =SUM(D25:D27) -> 0 | E28: (순공사원가계+일반관리비+이윤)
A29: N E G O 금 액 | D29: =ROUNDDOWN(D28,-6) -> 0 | E29: (부가세포함금액)

Sheet 공종별집계표
A1: 공 종 별 집 계 표
A2: =공종별내역서!A1:M1 -> [ 공기열 히트펌프시스템 설치공사 ]
A3: 품 명 | B3: 규 격 | C3: 단위 | D3: 수량 | E3: 재 료 비 | G3: 노 무 비 | I3: 경 비 | K3: 합 계 | M3: 비 고 | N3: 공종코드 | O3: 변수 | P3: 상위공종 | Q3: 공종구분 | R3: 공종레벨 | S3: 공종소계 | T3: 원가계산서 연결금액
E4: 단 가 | F4: 금 액 | G4: 단 가 | H4: 금 액 | I4: 단 가 | J4: 금 액 | K4: 단 가 | L4: 금 액
A5: 장비설치공사 | D5: 1 | N5: 0104 | P5: 01 | R5: 2
A6: =공종별내역서!A28 -> 히트펌프 배관공사 | D6: 1 | N6: 0103 | P6: 01 | R6: 2
F8: =E8*D8 -> 0 | H8: =G8*D8 -> 0 | J8: =I8*D8 -> 0 | L8: =F8+H8+J8 -> 0
F9: =E9*D9 -> 0 | H9: =G9*D9 -> 0 | J9: =I9*D9 -> 0 | L9: =F9+H9+J9 -> 0
F10: =E10*D10 -> 0 | H10: =G10*D10 -> 0 | J10: =I10*D10 -> 0 | K10: =E10+G10+I10 -> 0 | L10: =F10+H10+J10 -> 0
F11: =E11*D11 -> 0 | H11: =G11*D11 -> 0 | J11: =I11*D11 -> 0 | L11: =F11+H11+J11 -> 0
F12: =E12*D12 -> 0 | H12: =G12*D12 -> 0 | J12: =I12*D12 -> 0 | L12: =F12+H12+J12 -> 0
F13: =E13*D13 -> 0 | H13: =G13*D13 -> 0 | J13: =I13*D13 -> 0
F14: =E14*D14 -> 0 | H14: =G14*D14 -> 0 | J14: =I14*D14 -> 0
F15: =E15*D15 -> 0 | H15: =G15*D15 -> 0 | K15: =E15+G15+I15 -> 0 | L15: =F15+H15+J15 -> 0
F16: =E16*D16 -> 0
F22: =E22*D22 -> 0 | H22: =G22*D22 -> 0 | K22: =E22+G22+I22 -> 0 | L22: =F22+H22+J22 -> 0
A26: [ 합 계 ] | F26: =SUM(F5:F25) -> 0 | H26: =SUM(H5:H25) -> 0 | J26: =SUM(J5:J25) -> 0 | L26: =SUM(L5:L25) -> 0

Sheet 공종별내역서
A1: [ 공기열 히트펌프시스템 설치공사 ]
A2: 품 명 | B2: 규 격 | C2: 단위 | D2: 수량 | E2: 재 료 비 | G2: 노 무 비 | I2: 경 비 | K2: 합 계 | M2: 비 고 | N2: 품목코드 | O2: 변수 | P2: 설정 | Q2: 공종코드 | R2: 일위 | S2: 단산 | T2: 자재 | U2: 손료적용 | V2: 손료저장 | W2: 적용율 | X2: JUK1 | Y2: JUK2 | Z2: JUK3 | AA2: JUK4 | AB2: JUK5 | AC2: JUK6 | AD2: JUK7 | AE2: JUK8 | AF2: JUK9 | AG2: JUK10 | AH2: JUK11 | AI2: JUK12 | AJ2: JUK13 | AK2: JUK14 | AL2: JUK15 | AM2: JUK16 | AN2: JUK17 | AO2: JUK18 | AP2: JUK19 | AQ2: JUK20 | AR2: 자재구분 | AS2: 공종구분 | AT2: 공종레벨 | AU2: 공종+자재 | AV2: 고유번호
E3: 단 가 | F3: 금 액 | G3: 단 가 | H3: 금 액 | I3: 단 가 | J3: 금 액 | K3: 단 가 | L3: 금 액
A4: 장비설치공사 | N4: 5C0863B76C4A5A1618DF26C707E251 | Q4: 0102 | R4: T | S4: F | T4: F | AU4: 01025C0863B76C4A5A1618DF26C707E251 | AV4: 76
A5: 공기열히트펌프(고온수) | B5: AWC-035X | C5: 대 | D5: 5 | H5: =TRUNC(G5*D5, 0) -> 0 | J5: =TRUNC(I5*D5, 0) -> 0 | N5: 5CCDB3E365484416414BF66CB659C7 | Q5: 0102 | R5: T | S5: F | T5: F | AU5: 01025CCDB3E365484416414BF66CB659C7 | AV5: 78
A6: 온수탱크&열교환기순환펌프 | B6: 윌로250 | C6: EA | D6: 5
A7: 히트펌프순환펌프 | B7: 윌로080 | C7: EA | D7: 5 | H7: =TRUNC(G7*D7, 0) -> 0 | J7: =TRUNC(I7*D7, 0) -> 0 | N7: 5CCDB3E365484416414BF66CB659C7 | Q7: 0102 | R7: T | S7: F | T7: F | AU7: 01025CCDB3E365484416414BF66CB659C7 | AV7: 78
A8: 버퍼탱크 | F8: =TRUNC(E8*D8, 0) -> 0 | H8: =TRUNC(G8*D8, 0) -> 0 | J8: =TRUNC(I8*D8, 0) -> 0 | L8: =TRUNC(F8+H8+J8, 0) -> 0 | N8: 5CCDB3E365484416414BF66CB659C7 | Q8: 0102 | R8: T | S8: F | T8: F | AU8: 01025CCDB3E365484416414BF66CB659C7 | AV8: 78
A9: 장비이용료 | F9: =TRUNC(E9*D9, 0) -> 0 | H9: =TRUNC(G9*D9, 0) -> 0 | N9: 5CCDB3E365484416414BF66CB659C7 | Q9: 0102 | R9: T | S9: F | T9: F | AU9: 01025CCDB3E365484416414BF66CB659C7 | AV9: 78
F10: =TRUNC(E10*D10, 0) -> 0 | H10: =TRUNC(G10*D10, 0) -> 0 | J10: =TRUNC(I10*D10, 0) -> 0 | K10: =TRUNC(E10+G10+I10, 0) -> 0 | L10: =TRUNC(F10+H10+J10, 0) -> 0 | N10: 5CCDB3E365484416414BF66CB659C7 | Q10: 0102 | R10: T | S10: F | T10: F | AU10: 01025CCDB3E365484416414BF66CB659C7 | AV10: 78
F11: =TRUNC(E11*D11, 0) -> 0 | H11: =TRUNC(G11*D11, 0) -> 0 | J11: =TRUNC(I11*D11, 0) -> 0 | K11: =TRUNC(E11+G11+I11, 0) -> 0 | L11: =TRUNC(F11+H11+J11, 0) -> 0 | N11: 5CCDB3E365484416414BF66CB659C7 | Q11: 0102 | R11: T | S11: F | T11: F | AU11: 01025CCDB3E365484416414BF66CB659C7 | AV11: 78
F12: =TRUNC(E12*D12, 0) -> 0 | G12: 0 | H12: =TRUNC(G12*D12, 0) -> 0 | I12: 0 | J12: =TRUNC(I12*D12, 0) -> 0 | K12: =TRUNC(E12+G12+I12, 0) -> 0 | L12: =TRUNC(F12+H12+J12, 0) -> 0 | N12: 5C1963116B04721675A8A62A45F7672767F486 | Q12: 0102 | R12: F | S12: F | T12: T | AU12: 01025C1963116B04721675A8A62A45F7672767F486 | AV12: 83
F13: =TRUNC(E13*D13, 0) -> 0 | H13: =TRUNC(G13*D13, 0) -> 0 | K13: =TRUNC(E13+G13+I13, 0) -> 0 | L13: =TRUNC(F13+H13+J13, 0) -> 0 | N13: 5C1963116B04721675A8A62A45F7672767F486 | Q13: 0102 | R13: F | S13: F | T13: T | AU13: 01025C1963116B04721675A8A62A45F7672767F486 | AV13: 83
F14: =TRUNC(E14*D14, 0) -> 0 | H14: =TRUNC(G14*D14, 0) -> 0 | J14: =TRUNC(I14*D14, 0) -> 0 | K14: =TRUNC(E14+G14+I14, 0) -> 0 | L14: =TRUNC(F14+H14+J14, 0) -> 0 | N14: 5C1963116B04721675A8A62A45F7672767F486 | Q14: 0102 | R14: F | S14: F | T14: T | AU14: 01025C1963116B04721675A8A62A45F7672767F486 | AV14: 83
F15: =TRUNC(E15*D15, 0) -> 0 | H15: =TRUNC(G15*D15, 0) -> 0 | J15: =TRUNC(I15*D15, 0) -> 0 | K15: =TRUNC(E15+G15+I15, 0) -> 0 | L15: =TRUNC(F15+H15+J15, 0) -> 0 | N15: 5CCDB3E365484416414BF66CB659C7 | Q15: 0102 | R15: T | S15: F | T15: F | AU15: 01025CCDB3E365484416414BF66CB659C7 | AV15: 78
F16: =TRUNC(E16*D16, 0) -> 0 | G16: 0 | H16: =TRUNC(G16*D16, 0) -> 0 | I16: 0 | J16: =TRUNC(I16*D16, 0) -> 0 | K16: =TRUNC(E16+G16+I16, 0) -> 0 | L16: =TRUNC(F16+H16+J16, 0) -> 0 | N16: 5C1963116B04721675A8A62A45F7672767F486 | Q16: 0102 | R16: F | S16: F | T16: T | AU16: 01025C1963116B04721675A8A62A45F7672767F486 | AV16: 83
F17: =TRUNC(E17*D17, 0) -> 0 | H17: =TRUNC(G17*D17, 0) -> 0 | J17: =TRUNC(I17*D17, 0) -> 0 | K17: =TRUNC(E17+G17+I17, 0) -> 0 | L17: =TRUNC(F17+H17+J17, 0) -> 0 | N17: 5CCDB3E365484416414BF66CB659C7 | Q17: 0102 | R17: T | S17: F | T17: F | AU17: 01025CCDB3E365484416414BF66CB659C7 | AV17: 78
F18: =TRUNC(E18*D18, 0) -> 0 | G18: 0 | H18: =TRUNC(G18*D18, 0) -> 0 | I18: 0 | J18: =TRUNC(I18*D18, 0) -> 0 | K18: =TRUNC(E18+G18+I18, 0) -> 0 | L18: =TRUNC(F18+H18+J18, 0) -> 0 | N18: 5C1963116B04721675A8A62A45F7672767F486 | Q18: 0102 | R18: F | S18: F | T18: T | AU18: 01025C1963116B04721675A8A62A45F7672767F486 | AV18: 83
F19: =TRUNC(E19*D19, 0) -> 0 | H19: =TRUNC(G19*D19, 0) -> 0 | K19: =TRUNC(E19+G19+I19, 0) -> 0 | L19: =TRUNC(F19+H19+J19, 0) -> 0 | N19: 5C1963116B04721675A8A62A45F7672767F486 | Q19: 0102 | R19: F | S19: F | T19: T | AU19: 01025C1963116B04721675A8A62A45F7672767F486 | AV19: 83
F20: =TRUNC(E20*D20, 0) -> 0 | H20: =TRUNC(G20*D20, 0) -> 0 | J20: =TRUNC(I20*D20, 0) -> 0 | K20: =TRUNC(E20+G20+I20, 0) -> 0 | L20: =TRUNC(F20+H20+J20, 0) -> 0 | N20: 5C1963116B04721675A8A62A45F7672767F486 | Q20: 0102 | R20: F | S20: F | T20: T | AU20: 01025C1963116B04721675A8A62A45F7672767F486 | AV20: 83
F21: =TRUNC(E21*D21, 0) -> 0 | H21: =TRUNC(G21*D21, 0) -> 0 | K21: =TRUNC(E21+G21+I21, 0) -> 0 | L21: =TRUNC(F21+H21+J21, 0) -> 0 | N21: 5C1963116B04721675A8A62A45F7672767F486 | Q21: 0102 | R21: F | S21: F | T21: T | AU21: 01025C1963116B04721675A8A62A45F7672767F486 | AV21: 83
F22: =TRUNC(E22*D22, 0) -> 0 | H22: =TRUNC(G22*D22, 0) -> 0 | J22: =TRUNC(I22*D22, 0) -> 0 | K22: =TRUNC(E22+G22+I22, 0) -> 0 | L22: =TRUNC(F22+H22+J22, 0) -> 0 | N22: 5C1963116B04721675A8A62A45F7672767F486 | Q22: 0102 | R22: F | S22: F | T22: T | AU22: 01025C1963116B04721675A8A62A45F7672767F486 | AV22: 83
F23: =TRUNC(E23*D23, 0) -> 0 | H23: =TRUNC(G23*D23, 0) -> 0 | J23: =TRUNC(I23*D23, 0) -> 0 | K23: =TRUNC(E23+G23+I23, 0) -> 0 | L23: =TRUNC(F23+H23+J23, 0) -> 0 | N23: 5C1963116B04721675A8A62A45F7672767F486 | Q23: 0102 | R23: F | S23: F | T23: T | AU23: 01025C1963116B04721675A8A62A45F7672767F486 | AV23: 83
F24: =TRUNC(E24*D24, 0) -> 0 | H24: =TRUNC(G24*D24, 0) -> 0 | J24: =TRUNC(I24*D24, 0) -> 0 | K24: =TRUNC(E24+G24+I24, 0) -> 0 | L24: =TRUNC(F24+H24+J24, 0) -> 0 | N24: 5C1963116B04721675A8A62A45F7672767F486 | Q24: 0102 | R24: F | S24: F | T24: T | AU24: 01025C1963116B04721675A8A62A45F7672767F486 | AV24: 83
F25: =TRUNC(E25*D25, 0) -> 0 | H25: =TRUNC(G25*D25, 0) -> 0 | K25: =TRUNC(E25+G25+I25, 0) -> 0 | L25: =TRUNC(F25+H25+J25, 0) -> 0 | N25: 5C1963116B04721675A8A62A45F7672767F486 | Q25: 0102 | R25: F | S25: F | T25: T | AU25: 01025C1963116B04721675A8A62A45F7672767F486 | AV25: 83
F26: =TRUNC(E26*D26, 0) -> 0 | H26: =TRUNC(G26*D26, 0) -> 0 | J26: =TRUNC(I26*D26, 0) -> 0 | K26: =TRUNC(E26+G26+I26, 0) -> 0 | L26: =TRUNC(F26+H26+J26, 0) -> 0 | N26: 5C1963116B04721675A8A62A45F7672767F486 | Q26: 0102 | R26: F | S26: F | T26: T | AU26: 01025C1963116B04721675A8A62A45F7672767F486 | AV26: 83
A27: [ 합 계 ] | H27: =SUM(H5:H26) -> 0 | J27: =SUM(J5:J26) -> 0 | L27: =SUM(L5:L26) -> 0
A28: 히트펌프 배관공사 | N28: 5C0863B76C4A5A1618DF26C707E251 | Q28: 0102 | R28: T | S28: F | T28: F | AU28: 01025C0863B76C4A5A1618DF26C707E251 | AV28: 76
A29: sp-스텐k파이프 | B29: D25A | C29: M | D29: 50 | N29: 5CCDF30863AC1116000346AAF8860B | Q29: 0102 | R29: T | S29: F | T29: F | Y29: 2 | AU29: 01025CCDF30863AC1116000346AAF8860B | AV29: 79
A30: sp-스텐k파이프 | B30: D50A | C30: M | D30: 30 | N30: 5BEC23B36D837C16DDD2E65E3F67CC01133BFA | Q30: 0102 | R30: F | S30: F | T30: T | AU30: 01025BEC23B36D837C16DDD2E65E3F67CC01133BFA | AV30: 77
A31: 동연질관 | B31: 12.7mm | C31: M | D31: 50 | N31: 5BEC23B36D837C16DDD2E65E3F67CC01133BFA | Q31: 0102 | R31: F | S31: F | T31: T | AU31: 01025BEC23B36D837C16DDD2E65E3F67CC01133BFA | AV31: 77
A32: 동L타입직관 | B32: 22.2mm | C32: M | D32: 50 | N32: 5C1963116B04721675A8A62A45F7672767F486 | Q32: 0102 | R32: F | S32: F | T32: T | AU32: 01025C1963116B04721675A8A62A45F7672767F486 | AV32: 83
A33: 잡재료 | B33: 주재료비의5% | C33: 식
A34: sp-k유니온 | B34: 50A | C34: EA | D34: 20
A35: sp-k유니온 | B35: 25A | C35: EA | D35: 20
A36: SP-K유니온(허브형) | B36: 50A | C36: EA | D36: 10
A37: SP-K유니온(허브형) | B37: 25A | C37: EA | D37: 40 | N37: 5EC775956D5B7878309563D03D70 | Q37: 0103 | R37: T | S37: F | T37: F | AU37: 01035EC775956D5B7878309563D03D70 | AV37: 52
A38: 체크밸브 | B38: 25A | C38: EA | D38: 5
A39: 스트레이너 | B39: 25A | C39: EA | D39: 5
A40: 볼밸브 | B40: 15A | C40: EA | D40: 20
...

Sheet Sheet1
